BEGIN:VCALENDAR
VERSION:2.0
PRODID:-//Strengthening Faith Institutions (SFI) - ECPv6.0.6.2//NONSGML v1.0//EN
CALSCALE:GREGORIAN
METHOD:PUBLISH
X-WR-CALNAME:Strengthening Faith Institutions (SFI)
X-ORIGINAL-URL:https://www.sfitogether.org
X-WR-CALDESC:Events for Strengthening Faith Institutions (SFI)
REFRESH-INTERVAL;VALUE=DURATION:PT1H
X-Robots-Tag:noindex
X-PUBLISHED-TTL:PT1H
BEGIN:VTIMEZONE
TZID:UTC
BEGIN:STANDARD
TZOFFSETFROM:+0000
TZOFFSETTO:+0000
TZNAME:UTC
DTSTART:20180101T000000
END:STANDARD
END:VTIMEZONE
BEGIN:VEVENT
DTSTART;VALUE=DATE:20181104
DTEND;VALUE=DATE:20181105
DTSTAMP:20260425T162132
CREATED:20181211T141448Z
LAST-MODIFIED:20221201T104918Z
UID:2111-1541289600-1541375999@www.sfitogether.org
SUMMARY:Mental Health First Aid Training
DESCRIPTION:There will be a weekend opportunity for Mental Health First Aid training on Saturday and Sunday 3rd and 4th November 2018. Bids are invited for the 16 places.\n\nThis training is Mental Health First Aid England‘s 2 day Adult course and will be delivered by Phill Cotgreave de Rahman and Annie Shamsi at the Hyderi Islamic Centre\, 26 Estreham Road\, SW16 5PQ. Attendance for the two full days\, 9.30am – 5.30pm\, is required to obtain the relevant MHFA England certificate.\n\nThis training is offered free of charge to those connected to Faiths Together in Lambeth and its partner organisations. Hyderi Islamic Centre is very generously supporting the training with the venue\, refreshments and vegetarian lunches. (Participants with special dietary needs may need to make their own provision.) Faiths Together in Lambeth is providing the MHFA England course materials.
URL:https://www.sfitogether.org/event/mental-health-first-aid-training/
LOCATION:Hyderi Islamic Centre\, 26 Estreham Rd\, London\, SW16 5PQ
CATEGORIES:External Event
END:VEVENT
BEGIN:VEVENT
DTSTART;TZID=UTC:20181107T110000
DTEND;TZID=UTC:20181107T160000
DTSTAMP:20260425T162132
CREATED:20181017T115543Z
LAST-MODIFIED:20221201T104729Z
UID:1848-1541588400-1541606400@www.sfitogether.org
SUMMARY:GDPR Seminar for Faith Institutions
DESCRIPTION:An important seminar on the current legislation around General Data Protection Regulations (GDPR)\, this is essential for faith leaders or those managing faith institutions to attend\, understand what this means when it comes to managing data\, data control\, data Protection & possible penalties if there is a data breach. \nTo RSVP\, please contact Mufthi Helal on 07877665231 or our regional SFI coordinator Muzahid Khan on 07779325067 \n \n 
URL:https://www.sfitogether.org/event/gdpr-seminar-for-faith-institutions/
LOCATION:St Patrick Presbytery\, 40 Union St West\, Oldham\, OL8 1DL
CATEGORIES:SFI Event
END:VEVENT
BEGIN:VEVENT
DTSTART;TZID=UTC:20181110T143000
DTEND;TZID=UTC:20181110T173000
DTSTAMP:20260425T162132
CREATED:20181112T130743Z
LAST-MODIFIED:20221201T104911Z
UID:2007-1541860200-1541871000@www.sfitogether.org
SUMMARY:Health and Safety Awareness
DESCRIPTION:This course is FREE if you are part of the SFI network\, if not\, please contact Shakil Ahmed on 07505900490 ASAP for free registration.
URL:https://www.sfitogether.org/event/health-and-safety-awareness/
LOCATION:Jamia Abdullah bin Mas’oud\, 78 Evelyn Road\, Birmingham\, B11
CATEGORIES:SFI Event
ORGANIZER;CN="SFI":MAILTO:shakil@sfitogether.org
END:VEVENT
BEGIN:VEVENT
DTSTART;TZID=UTC:20181111T100000
DTEND;TZID=UTC:20181111T140000
DTSTAMP:20260425T162132
CREATED:20181121T145854Z
LAST-MODIFIED:20221201T104906Z
UID:2035-1541930400-1541944800@www.sfitogether.org
SUMMARY:Code Red First Aid Training
DESCRIPTION:
URL:https://www.sfitogether.org/event/code-red-first-aid-training/
LOCATION:Al Efidhoon Academy\, 2nd Floor\, Greencoat House\, 261-271 Stratford Road\, B11 1QS
CATEGORIES:SFI Event
END:VEVENT
BEGIN:VEVENT
DTSTART;TZID=UTC:20181111T100000
DTEND;TZID=UTC:20181111T180000
DTSTAMP:20260425T162132
CREATED:20181112T131733Z
LAST-MODIFIED:20221201T104840Z
UID:2015-1541930400-1541959200@www.sfitogether.org
SUMMARY:Health and Safety (Level 1)
DESCRIPTION:To book a place on the courses mentioned below\, please contact Mr Waheed Hussain on 07929031333
URL:https://www.sfitogether.org/event/health-and-safety-level-1/
LOCATION:Al Hafidhoon Academy\, 2nd Floor\, Greencoat House\, 261-271 Stratford Road\, Birmingham\, B11 1QS
CATEGORIES:SFI Event
END:VEVENT
BEGIN:VEVENT
DTSTART;TZID=UTC:20181111T100000
DTEND;TZID=UTC:20181111T180000
DTSTAMP:20260425T162132
CREATED:20181112T132131Z
LAST-MODIFIED:20221201T104833Z
UID:2020-1541930400-1541959200@www.sfitogether.org
SUMMARY:First Aid level 3 Training
DESCRIPTION:To book a place on the courses mentioned below\, please contact Mr Waheed Hussain on 07929031333
URL:https://www.sfitogether.org/event/first-aid-level-3-training/
LOCATION:Al Hafidhoon Academy\, 2nd Floor\, Greencoat House\, 261-271 Stratford Road\, Birmingham\, B11 1QS
CATEGORIES:SFI Event
END:VEVENT
BEGIN:VEVENT
DTSTART;TZID=UTC:20181111T143000
DTEND;TZID=UTC:20181111T173000
DTSTAMP:20260425T162132
CREATED:20181112T131058Z
LAST-MODIFIED:20221201T104815Z
UID:2011-1541946600-1541957400@www.sfitogether.org
SUMMARY:Health and Safety Awareness
DESCRIPTION:This course is FREE if you are part of the SFI network\, if not\, please contact Shakil Ahmed on 07505900490 ASAP for free registration.
URL:https://www.sfitogether.org/event/health-and-safety-awareness-2/
LOCATION:UKIM Spark Brook Islamic Centre and Masjid\, Sydenham Road\, Birmingham\, B11 1DG
CATEGORIES:SFI Event
ORGANIZER;CN="SFI":MAILTO:shakil@sfitogether.org
END:VEVENT
BEGIN:VEVENT
DTSTART;TZID=UTC:20181115T140000
DTEND;TZID=UTC:20181115T160000
DTSTAMP:20260425T162132
CREATED:20181112T122902Z
LAST-MODIFIED:20221201T104721Z
UID:2003-1542290400-1542297600@www.sfitogether.org
SUMMARY:Training course: Risk Management
DESCRIPTION:This certified course is essential for current and potential trustees/ management committee members as it will help them to fulfill their legal duties efficiently and effectively and deal with common governance issues. It provides an introduction to their legal responsibilities in six key areas and how to assess and manage risks.  Participants will also learn how to: • Run a charitable organisation effectively • Improve decision making and policy implementation • Deal with major governance issues • Complete seven steps of assessing and reducing risks that are linked with faith activities and facilities.\n\n \nCost: £10 per person but FREE to SFI Network members\n \nContact: Shakil 07505 900 490  shakil@sfitogether.org\n\nLimited places so book in advance. If your organisation is not a member of the SFI Network yet\, please contact Shakil for details of free membership and other support and training (mostly free or subsidised).
URL:https://www.sfitogether.org/event/training-course-risk-management/
LOCATION:Shree Ram Mandir\, Ford Street\, Walsall\, WS2 9BW
CATEGORIES:SFI Event
ORGANIZER;CN="SFI":MAILTO:shakil@sfitogether.org
END:VEVENT
BEGIN:VEVENT
DTSTART;TZID=UTC:20181117T143000
DTEND;TZID=UTC:20181117T180000
DTSTAMP:20260425T162132
CREATED:20181121T155403Z
LAST-MODIFIED:20221201T104715Z
UID:2042-1542465000-1542477600@www.sfitogether.org
SUMMARY:Health & Safety Officer Awareness Training
DESCRIPTION:This training will train the nominated persons in a Madrasah to fulfill the responsibility of Health & Safety in their institute. \nFor more information or to RSVP\, please email: mlatifms@yahoo.co.uk
URL:https://www.sfitogether.org/event/health-safety-officer-awareness-training/
LOCATION:Jamiah Abdullah bin Mas’oud Masjid\,\, 78 Evelyn Road\, Spark Hill\, Birmingham\, B11 3JJ
CATEGORIES:SFI Event
END:VEVENT
BEGIN:VEVENT
DTSTART;TZID=UTC:20181117T143000
DTEND;TZID=UTC:20181117T180000
DTSTAMP:20260425T162132
CREATED:20181121T155616Z
LAST-MODIFIED:20221201T104703Z
UID:2045-1542465000-1542477600@www.sfitogether.org
SUMMARY:Safeguarding Awareness Training
DESCRIPTION:This basic safeguarding awareness training is for all madrasah staff.\n\nFor more information or to RSVP\, please email: mlatifms@yahoo.co.uk
URL:https://www.sfitogether.org/event/safeguarding-awareness-training-2/
LOCATION:Makki Masjid\, 75\, Stafford Road\, Birmingham\, B21 9DU
CATEGORIES:SFI Event
END:VEVENT
BEGIN:VEVENT
DTSTART;TZID=UTC:20181125T130000
DTEND;TZID=UTC:20181125T150000
DTSTAMP:20260425T162132
CREATED:20181106T113728Z
LAST-MODIFIED:20221201T104607Z
UID:1990-1543150800-1543158000@www.sfitogether.org
SUMMARY:Community Bulb Planting
DESCRIPTION:As part of Faith Forum’s Inter-generational Gardening Project\, with the Mayor of London\, they are holding a ‘Community Bulb Planting’ event to plant bulbs as part of Barnet Council’s Initiative to plant a Snowdrop in memory of the 1.5 million children who were killed in the Holocaust. \nFor more information\, please email: natan@sfitogether.org
URL:https://www.sfitogether.org/event/community-bulb-planting/
LOCATION:Brownswell Green between Oak Lane and Brownswell Road N2\, N2
CATEGORIES:SFI Event
END:VEVENT
BEGIN:VEVENT
DTSTART;TZID=UTC:20181128T150000
DTEND;TZID=UTC:20181128T160000
DTSTAMP:20260425T162133
CREATED:20181122T170734Z
LAST-MODIFIED:20221201T104521Z
UID:2060-1543417200-1543420800@www.sfitogether.org
SUMMARY:Southwark Tree Planting Ceremony
DESCRIPTION:The London Borough of Southwark invites you to attend an interfaith tree-planting at St George the Martyr churchyard on Borough High Street at 3pm on Wednesday\, 28 November. \nPlease RSVP here \nThis is in honour of Henry Jessey\, a priest at St George the Martyr who\, as a member of the Pilgrim Fathers (Brownist) church\, campaigned as early as the 17th century for toleration of all religions\, including Jews and Muslims\, and in particular campaigned for the readmission of Jews into England. \n2020 is the 400th anniversary of the Mayflower sailing across the Atlantic. The Mayflower story and Southwark’s role in that historic voyage are deeply intertwined. Rotherhithe\, Bankside and Bermondsey have strong Pilgrim-Mayflower links from the first Brownist Church and other Pilgrim churches\, to the place Christopher Jones\, the captain and many of the crew lived.
URL:https://www.sfitogether.org/event/southwark-tree-planting-ceremony/
LOCATION:St George the Martyr churchyard\, Borough High Street\, London
CATEGORIES:SFI Event
END:VEVENT
END:VCALENDAR