BEGIN:VCALENDAR
VERSION:2.0
PRODID:-//Strengthening Faith Institutions (SFI) - ECPv6.0.6.2//NONSGML v1.0//EN
CALSCALE:GREGORIAN
METHOD:PUBLISH
X-ORIGINAL-URL:https://www.sfitogether.org
X-WR-CALDESC:Events for Strengthening Faith Institutions (SFI)
REFRESH-INTERVAL;VALUE=DURATION:PT1H
X-Robots-Tag:noindex
X-PUBLISHED-TTL:PT1H
BEGIN:VTIMEZONE
TZID:UTC
BEGIN:STANDARD
TZOFFSETFROM:+0000
TZOFFSETTO:+0000
TZNAME:UTC
DTSTART:20180101T000000
END:STANDARD
END:VTIMEZONE
BEGIN:VEVENT
DTSTART;TZID=UTC:20180901T130000
DTEND;TZID=UTC:20180901T170000
DTSTAMP:20260425T185109
CREATED:20180831T114512Z
LAST-MODIFIED:20180831T114512Z
UID:1754-1535806800-1535821200@www.sfitogether.org
SUMMARY:Safeguarding Children Training (Awareness - Level 1)
DESCRIPTION:Shakil Ahmad\, SFI consultant will be delivering Safeguarding Children Training (Awareness – Level 1) at Hounslow Muslim Centre.\n\nThe topics that will be covered are:\n\n\nImportance of safeguarding – in British law and in the Sacred Texts\nSafeguarding and Child Protection\nFour Rs of safeguarding – Recognise\, Respond\, Report\, Record\nMajor types of abuse and major signs of each type of abuse\nDuties of the Designated Safeguarding Officer and trustees\n/Management Committee\n\nFurther learning\nQ & A\n\nClick here\, to read ‘What to do if you’re worried a child is being abused’ prior to attending the training session. \nTo RSVP\, please email shakil@sfitogether.org. 
URL:https://www.sfitogether.org/event/safeguarding-children-training-awareness-level-1/
LOCATION:Haaya Centre\, 41A Ivy Road\, Hounslow\, London\, TW3 2DH
END:VEVENT
BEGIN:VEVENT
DTSTART;TZID=UTC:20180915T180000
DTEND;TZID=UTC:20180915T200000
DTSTAMP:20260425T185109
CREATED:20180913T155902Z
LAST-MODIFIED:20180913T155902Z
UID:1773-1537034400-1537041600@www.sfitogether.org
SUMMARY:Health and Safety Awareness Training
DESCRIPTION:For more information and to RSVP\, please email: mlatifms@yahoo.co.uk
URL:https://www.sfitogether.org/event/health-and-safety-awareness-training/
LOCATION:Madinah Masjid\, 10\, Wingrove Gardens\, Newcastle-upon-Tyne\, NE4 9HS
END:VEVENT
BEGIN:VEVENT
DTSTART;TZID=UTC:20180916T100000
DTEND;TZID=UTC:20180916T160000
DTSTAMP:20260425T185109
CREATED:20180917T122034Z
LAST-MODIFIED:20190311T120703Z
UID:1780-1537092000-1537113600@www.sfitogether.org
SUMMARY:First Aid\, Health and Safety (Level 1) Training
DESCRIPTION:First aid training has practical benefits\, such as becoming safety aware which reduces any risks and saves lives\, particularly when urgent attention is needed. The training SFI offers is delivered by Waheed Hussain\, who has over seventeen years’ experience within the Ambulance Service and is currently a Paramedic.\nTo RSVP\, please email Waheed Hussain: info@coderedparamedical.co.uk  
URL:https://www.sfitogether.org/event/first-aid-health-and-safety-level-1-training/
LOCATION:Social Welfare & Education Centre\, 40 Foxland Rd\, Gatley\, Cheadle\, SK8 4QB
END:VEVENT
BEGIN:VEVENT
DTSTART;TZID=UTC:20180922T140000
DTEND;TZID=UTC:20180922T180000
DTSTAMP:20260425T185109
CREATED:20180918T120423Z
LAST-MODIFIED:20180918T120511Z
UID:1784-1537624800-1537639200@www.sfitogether.org
SUMMARY:Safeguarding Children Awareness Training
DESCRIPTION:Topics covered:\n\n\n\nImportance of safeguarding – in British law and in the Sacred Texts\nSafeguarding and Child Protection\nFour Rs of safeguarding – Recognise\, Respond\, Report\, Record\nMajor types of abuse and major signs of each type of abuse\nDuties of the Designated Safeguarding Officer and trustees/Management Committee\nFurther learning\n\n\nTo RSVP or for more information\, please email Shakil Ahmed: Shakil@sfitogether.org or call: 07505900490
URL:https://www.sfitogether.org/event/safeguarding-children-awareness-training/
LOCATION:Grimsby Islamic Cultural Centre\, 79a Weelsby Road\, Grimsby\, DN32 0PY
END:VEVENT
BEGIN:VEVENT
DTSTART;TZID=UTC:20180923T150000
DTEND;TZID=UTC:20180923T170000
DTSTAMP:20260425T185109
CREATED:20180913T160111Z
LAST-MODIFIED:20180913T160134Z
UID:1776-1537714800-1537722000@www.sfitogether.org
SUMMARY:Safeguarding Awareness Training
DESCRIPTION:For more information and to RSVP\, please email: mlatifms@yahoo.co.uk
URL:https://www.sfitogether.org/event/safeguarding-awareness-training/
LOCATION:Madina Education Trust\, Madina House\, Walsall Street\, Wednesbury\, Walsall\, WS10 9EL
END:VEVENT
BEGIN:VEVENT
DTSTART;TZID=UTC:20180925T174500
DTEND;TZID=UTC:20180925T200000
DTSTAMP:20260425T185109
CREATED:20180809T105356Z
LAST-MODIFIED:20180809T105451Z
UID:1681-1537897500-1537905600@www.sfitogether.org
SUMMARY:Walsall Faith Groups Information Evening with SFI and Near Neighbours
DESCRIPTION:Strengthening Faith Institutions (SFI) in partnership with Near Neighbours Black Country is pleased to invite you to the information evening for faith organisations in Walsall and Black Country. \nClick here to register.
URL:https://www.sfitogether.org/event/walsall-faith-groups-information-evening-with-sfi-and-near-neighbours/
LOCATION:The Vines\, 33 Lower Hall Lane\, Walsall\, WS1 1RR
END:VEVENT
BEGIN:VEVENT
DTSTART;TZID=UTC:20180925T180000
DTEND;TZID=UTC:20180925T203000
DTSTAMP:20260425T185109
CREATED:20180814T143331Z
LAST-MODIFIED:20180814T144419Z
UID:1721-1537898400-1537907400@www.sfitogether.org
SUMMARY:Information evening (grants\, safeguarding\, community cohesion\, risk management etc):
DESCRIPTION:Strengthening Faith Institutions (SFI) is pleased to hold an evening\, proving information on various topics such as grants\, safeguarding\, and community cohesion including a dinner at 6 pm. \nTo find out more\, including the venue and to book your place please email Shakil@sfitogether.org \n 
URL:https://www.sfitogether.org/event/information-evening-grants-safeguarding-community-cohesion-risk-management-etc/
LOCATION:walsall
END:VEVENT
BEGIN:VEVENT
DTSTART;TZID=UTC:20180930T100000
DTEND;TZID=UTC:20180930T120000
DTSTAMP:20260425T185109
CREATED:20180925T100540Z
LAST-MODIFIED:20180925T100540Z
UID:1790-1538301600-1538308800@www.sfitogether.org
SUMMARY:Sukkah at Al Khoei\, London
DESCRIPTION:For the third year running\, Al Khoei Islamic Centre\, London will be hosting their Jewish neighbours and friends from Brondesbury Park Synagogue for an interfaith breakfast to mark Sukkot –  a Jewish festival\, often referred to as the Season of our Rejoicing has historical significance which commemorates the forty-year period during which the children of Israel were wandering in the desert\, living in temporary shelters.
URL:https://www.sfitogether.org/event/sukkah-at-al-khoei-london/
LOCATION:Al Khoei Islamic Centre\, Chevening Rd\, London\, NW6 6TN
END:VEVENT
BEGIN:VEVENT
DTSTART;TZID=UTC:20180930T133000
DTEND;TZID=UTC:20180930T153000
DTSTAMP:20260425T185109
CREATED:20180927T161934Z
LAST-MODIFIED:20180927T161948Z
UID:1801-1538314200-1538321400@www.sfitogether.org
SUMMARY:Sukkah at the Al Manaar mosque
DESCRIPTION:This year to mark the Jewish festival of Sukkot\, Al Manaar the Muslim Cultural Heritage Centre  which serves the Grenfell and wider area will be hosting members of the Jewish Community to build friendships\, and share conversation and food.
URL:https://www.sfitogether.org/event/sukkah-at-the-al-manaar-mosque/
LOCATION:Al Manaar\, the Muslim Cultural Heritage Centre\, 244 Acklam Road\, London\, W10 5YG
END:VEVENT
BEGIN:VEVENT
DTSTART;TZID=UTC:20180930T140000
DTEND;TZID=UTC:20180930T160000
DTSTAMP:20260425T185109
CREATED:20180925T101339Z
LAST-MODIFIED:20180925T101339Z
UID:1795-1538316000-1538323200@www.sfitogether.org
SUMMARY:Sukkah at Idaara Maarif-e-Islam\, Birmingham
DESCRIPTION:This year to mark the Jewish festival of Sukkot\, Idaara Maarif-e-Islam in Birmingham will be hosting members of the Jewish Community from Birmingham Progressive Synagogue for the first time to build friendships\, and share conversation and food.
URL:https://www.sfitogether.org/event/sukkah-at-idaara-maarif-e-islam-birmingham/
LOCATION:Idaara Maarif-e-Islam\, Regent Park Rd\, Small Heath\, Birmingham\, B10 0QP
END:VEVENT
END:VCALENDAR