BEGIN:VCALENDAR
VERSION:2.0
PRODID:-//Strengthening Faith Institutions (SFI) - ECPv6.0.6.2//NONSGML v1.0//EN
CALSCALE:GREGORIAN
METHOD:PUBLISH
X-WR-CALNAME:Strengthening Faith Institutions (SFI)
X-ORIGINAL-URL:https://www.sfitogether.org
X-WR-CALDESC:Events for Strengthening Faith Institutions (SFI)
REFRESH-INTERVAL;VALUE=DURATION:PT1H
X-Robots-Tag:noindex
X-PUBLISHED-TTL:PT1H
BEGIN:VTIMEZONE
TZID:UTC
BEGIN:STANDARD
TZOFFSETFROM:+0000
TZOFFSETTO:+0000
TZNAME:UTC
DTSTART:20180101T000000
END:STANDARD
END:VTIMEZONE
BEGIN:VEVENT
DTSTART;TZID=UTC:20180811T143000
DTEND;TZID=UTC:20180811T160000
DTSTAMP:20260425T224849
CREATED:20180720T112052Z
LAST-MODIFIED:20180809T113409Z
UID:1537-1533997800-1534003200@www.sfitogether.org
SUMMARY:Madrasah Designated Safeguarding Lead Training
DESCRIPTION:The MDSL training session is the second in the SFI comprehensive Safeguarding training programme which ensures that each madrasah completing this programme is given the same preparedness as mainstream schools would be for Ofsted inspections. In this session\, the persons nominated to fulfil the role of the Designated Safeguarding Lead at the Madrasah are invited to develop their knowledge and skill set to carry out their duties. \nTo RSVP\, please email Muhammad Latif: mlatifms@yahoo.co.uk
URL:https://www.sfitogether.org/event/designated-safeguarding-lead-training/
LOCATION:Masjid Abdullah bin Masood\, 78 Evelyn Road\, Sparkhill\, Birmingham\, B11 3JJ\, United Kingdom
END:VEVENT
BEGIN:VEVENT
DTSTART;TZID=UTC:20180814T080000
DTEND;TZID=UTC:20180814T170000
DTSTAMP:20260425T224849
CREATED:20180814T142351Z
LAST-MODIFIED:20180814T145845Z
UID:1719-1534233600-1534266000@www.sfitogether.org
SUMMARY:Safeguarding Vulnerable Adults - Awareness Course (level 1)
DESCRIPTION:Strengthening Faith Institutions (SFI) is pleased to hold a Safeguarding Vulnerable Adults – Awareness Course (level 1). The aim of the course is to give you with the foundation to support you and your workplace in your responsibilities to protect vulnerable adults in the health and social care settings. \nTo find out more\, including the venue an to book your place\, please email: Shakil@sfitogether.org \n 
URL:https://www.sfitogether.org/event/safeguarding-vulnerable-adults-awareness-course-level-1/
LOCATION:TMC Birmingham\, 288 Camden Street\, Hockley\, Birmingham\, B18 7PW\, United Kingdom
END:VEVENT
BEGIN:VEVENT
DTSTART;TZID=UTC:20180818T110000
DTEND;TZID=UTC:20180818T170000
DTSTAMP:20260425T224849
CREATED:20180813T100408Z
LAST-MODIFIED:20180813T110821Z
UID:1696-1534590000-1534611600@www.sfitogether.org
SUMMARY:Community Health Fair/ Mela\, Minhaj Ul Quran International
DESCRIPTION:Minhaj ul Quran Community Centre in collaboration with Minhaj ul Quran Women’s League\, Barry Mcguigan Boxing Academy (BMBA) and many other organisations are proud to invite you\, your family and your friends to its Community Health Fair/ Mela. Bringing  people from all walks of life sharing their points of view\, experiences\, issues and difficulties relating to well being and health. This is an event to provide access to professional advice and services in an environment which is relaxed and comfortable. \nThe Community Health Fair/ Mela is a family event which incorporates the fun of bouncy castles\, henna decorations\, good food\, dialogue\, information sharing about all types of things including health and brings people from all the various diverse communities together. \nAt 3 pm there will be part of a community Health Walk where will be walking from the community centre to West Ham Park and getting involved in some healthy fun activities.   
URL:https://www.sfitogether.org/event/community-health-fair-mela/
END:VEVENT
BEGIN:VEVENT
DTSTART;TZID=UTC:20180818T143000
DTEND;TZID=UTC:20180818T183000
DTSTAMP:20260425T224849
CREATED:20180814T141058Z
LAST-MODIFIED:20180814T145728Z
UID:1716-1534602600-1534617000@www.sfitogether.org
SUMMARY:Safeguarding Children - Designated Safeguarding Leads Course (Level 2)
DESCRIPTION:Strengthening Faith Institutions (SFI) is holding a Safeguarding Children – Designated Safeguarding Leads Course (Level 2). Our training course will help you gain the skills to act appropriately and confidently to protect the children you work in a designated child safeguarding role. \n\nFor further information\, including venue and to book your place please email: Shakil@sfitogether.org \n  \n 
URL:https://www.sfitogether.org/event/safeguarding-children-designated-safeguarding-leads-course-level-2/
LOCATION:TMC Birmingham\, 288 Camden Street\, Hockley\, Birmingham\, B18 7PW\, United Kingdom
END:VEVENT
BEGIN:VEVENT
DTSTART;TZID=UTC:20180818T143000
DTEND;TZID=UTC:20180818T183000
DTSTAMP:20260425T224849
CREATED:20180821T133223Z
LAST-MODIFIED:20180821T133223Z
UID:1739-1534602600-1534617000@www.sfitogether.org
SUMMARY:Madrasah Designated Safeguarding Lead (MDSL) Training
DESCRIPTION:The MDSL training session is the second in the SFI comprehensive Safeguarding training programme which ensures that each madrasah completing this programme is given the same preparedness as mainstream schools would be for Ofsted inspections. In this session\, the persons nominated to fulfil the role of the Designated Safeguarding Lead at the Madrasah are invited to develop their knowledge and skill set to carry out their duties. \nTo RSVP\, please email Muhammad Latif: mlatifms@yahoo.co.uk
URL:https://www.sfitogether.org/event/madrasah-designated-safeguarding-lead-mdsl-training/
LOCATION:Jamiah Abdullah bin Masood Masjid\, 78\, Evelyn road\, Spark Hill\, Birmingham\, B11 3JJ
END:VEVENT
BEGIN:VEVENT
DTSTART;TZID=UTC:20180819T143000
DTEND;TZID=UTC:20180819T183000
DTSTAMP:20260425T224849
CREATED:20180821T133427Z
LAST-MODIFIED:20180821T133427Z
UID:1744-1534689000-1534703400@www.sfitogether.org
SUMMARY:Madrasah Designated Safeguarding Lead (MDSL) Training
DESCRIPTION:The MDSL training session is the second in the SFI comprehensive Safeguarding training programme which ensures that each madrasah completing this programme is given the same preparedness as mainstream schools would be for Ofsted inspections. In this session\, the persons nominated to fulfil the role of the Designated Safeguarding Lead at the Madrasah are invited to develop their knowledge and skill set to carry out their duties. \nTo RSVP\, please email Muhammad Latif: mlatifms@yahoo.co.uk
URL:https://www.sfitogether.org/event/madrasah-designated-safeguarding-lead-mdsl-training-2/
LOCATION:Jamiah Abdullah bin Masood Masjid\, 78\, Evelyn road\, Spark Hill\, Birmingham\, B11 3JJ
END:VEVENT
BEGIN:VEVENT
DTSTART;TZID=UTC:20180820T040000
DTEND;TZID=UTC:20180820T193000
DTSTAMP:20260425T224849
CREATED:20180814T140248Z
LAST-MODIFIED:20180814T145644Z
UID:1711-1534737600-1534793400@www.sfitogether.org
SUMMARY:Safeguarding Children - Awareness Course (Level 1)
DESCRIPTION:Strengthening Faith Institutions (SFI) is pleased to hold a safeguarding children awareness course (level 1). This Introduction to Safeguarding Children course is a positive first step towards increasing and improving your knowledge and will provide you with a thorough overview of how to recognise the warning signs of abuse\, what to do with any concerns that you may have and how to feel confident in protecting children from harm.  \nTo find out more including venue\, and to book your place please email: Shakil@sfitogether.org \n 
URL:https://www.sfitogether.org/event/safeguarding-children-awareness-course-level-1/
LOCATION:walsall
END:VEVENT
END:VCALENDAR