BEGIN:VCALENDAR
VERSION:2.0
PRODID:-//Strengthening Faith Institutions (SFI) - ECPv6.0.6.2//NONSGML v1.0//EN
CALSCALE:GREGORIAN
METHOD:PUBLISH
X-WR-CALNAME:Strengthening Faith Institutions (SFI)
X-ORIGINAL-URL:https://www.sfitogether.org
X-WR-CALDESC:Events for Strengthening Faith Institutions (SFI)
REFRESH-INTERVAL;VALUE=DURATION:PT1H
X-Robots-Tag:noindex
X-PUBLISHED-TTL:PT1H
BEGIN:VTIMEZONE
TZID:UTC
BEGIN:STANDARD
TZOFFSETFROM:+0000
TZOFFSETTO:+0000
TZNAME:UTC
DTSTART:20180101T000000
END:STANDARD
END:VTIMEZONE
BEGIN:VEVENT
DTSTART;TZID=UTC:20180716T130000
DTEND;TZID=UTC:20180716T163000
DTSTAMP:20260425T224847
CREATED:20180709T135145Z
LAST-MODIFIED:20180709T135145Z
UID:1454-1531746000-1531758600@www.sfitogether.org
SUMMARY:Free training module from Team London: Trustee recruitment and diversity
DESCRIPTION:The free training module is organised by Team London in collaboration with Getting on Board\, a company which has expertise on ensuring trustee recruitment is diverse. The aim of the training is to equip Faith Institutions with the neccessary skills\, resources and practical templates needed to recruit a board of trustees who are diverse in all aspects. \nThe event is open to CEO’s\, Trustees and all staff involved in recruiting trustees.\n\n*Applications close 11th July*
URL:https://www.sfitogether.org/event/free-training-module-from-team-london-trustee-recruitment-and-diversity/
LOCATION:City Hall\, London\, The Queen's Walk\,\, London\, SE1 2AA
END:VEVENT
BEGIN:VEVENT
DTSTART;TZID=UTC:20180722T143000
DTEND;TZID=UTC:20180722T183000
DTSTAMP:20260425T224847
CREATED:20180720T110010Z
LAST-MODIFIED:20180720T110104Z
UID:1528-1532269800-1532284200@www.sfitogether.org
SUMMARY:SFI Safeguarding Training for Mosque Trustees
DESCRIPTION:
URL:https://www.sfitogether.org/event/safeguarding-training/
LOCATION:Masjid-E-Aman & Islamic Education Centre\, 232 Witton Road\, Birmingham\, B6 6LB\, United Kingdom
END:VEVENT
BEGIN:VEVENT
DTSTART;TZID=UTC:20180723T100000
DTEND;TZID=UTC:20180724T180000
DTSTAMP:20260425T224847
CREATED:20180709T115834Z
LAST-MODIFIED:20180709T115834Z
UID:1450-1532340000-1532455200@www.sfitogether.org
SUMMARY:Paediatric First Aid (2 day) and Level 2 health and safety training
DESCRIPTION:A 2 day course on the 23rd and 24th July between 10am-6pm\, providing certified Paediatric First Aid and Level 2 Health and Safety training by CodeRed Paramedics\, the course will be led by a Paramedic of 18 years\, at the Essex Islamic Academy\, IG11 7RR \nTo read more on the importance of health and safety in Faith Institutions: https://www.sfitogether.org/2018/07/03/faith-in-first-aid/ \n*Please note that £30 is for SFI members only\, £80 for non members – contact Natan at 07590028823 or natan@sfitogether.org
URL:https://www.sfitogether.org/event/paediatric-first-aid-2-day-and-level-2-health-and-safety-training/
LOCATION:Essex Islamic Academy\, Ripple Road\,\, London\, IG11 7RR\, United Kingdom
END:VEVENT
END:VCALENDAR