BEGIN:VCALENDAR
VERSION:2.0
PRODID:-//Strengthening Faith Institutions (SFI) - ECPv6.0.6.2//NONSGML v1.0//EN
CALSCALE:GREGORIAN
METHOD:PUBLISH
X-WR-CALNAME:Strengthening Faith Institutions (SFI)
X-ORIGINAL-URL:https://www.sfitogether.org
X-WR-CALDESC:Events for Strengthening Faith Institutions (SFI)
REFRESH-INTERVAL;VALUE=DURATION:PT1H
X-Robots-Tag:noindex
X-PUBLISHED-TTL:PT1H
BEGIN:VTIMEZONE
TZID:UTC
BEGIN:STANDARD
TZOFFSETFROM:+0000
TZOFFSETTO:+0000
TZNAME:UTC
DTSTART:20180101T000000
END:STANDARD
END:VTIMEZONE
BEGIN:VEVENT
DTSTART;TZID=UTC:20180601T204500
DTEND;TZID=UTC:20180601T211500
DTSTAMP:20260425T224848
CREATED:20180523T095149Z
LAST-MODIFIED:20180523T103005Z
UID:1310-1527885900-1527887700@www.sfitogether.org
SUMMARY:Muslims of Moseley\, Big Iftar
DESCRIPTION:
URL:https://www.sfitogether.org/event/muslims-of-moseley-big-iftar/
LOCATION:Muslims of Moseley\, Moseley Village Green\, St Mary's Row\, Birmingham\, B13 8HW\, United Kingdom
END:VEVENT
BEGIN:VEVENT
DTSTART;TZID=UTC:20180602T201500
DTEND;TZID=UTC:20180602T213000
DTSTAMP:20260425T224848
CREATED:20180523T094441Z
LAST-MODIFIED:20180523T094441Z
UID:1295-1527970500-1527975000@www.sfitogether.org
SUMMARY:The Jamatia Islamic Centre\, Big Iftar
DESCRIPTION:
URL:https://www.sfitogether.org/event/the-jamatia-islamic-centre-big-iftar/
LOCATION:The Jamatia Islamic Centre\, 179-181 Woodlands Road\, Birmingham B11 4ER\, 179-181 Woodlands Road\, Birmingham\, B11 4ER\, United Kingdom
END:VEVENT
BEGIN:VEVENT
DTSTART;TZID=UTC:20180606T195000
DTEND;TZID=UTC:20180606T213000
DTSTAMP:20260425T224848
CREATED:20180523T102613Z
LAST-MODIFIED:20180523T102613Z
UID:1316-1528314600-1528320600@www.sfitogether.org
SUMMARY:Black Country Innovate\, Big Iftar
DESCRIPTION:
URL:https://www.sfitogether.org/event/black-country-innovate-big-iftar/
LOCATION:The County Hotel\, 45 Birmingham Road\, Walsall\, WS1 2NG\, United Kingdom
END:VEVENT
BEGIN:VEVENT
DTSTART;TZID=UTC:20180608T143000
DTEND;TZID=UTC:20180608T163000
DTSTAMP:20260425T224848
CREATED:20180530T143955Z
LAST-MODIFIED:20180530T143955Z
UID:1364-1528468200-1528475400@www.sfitogether.org
SUMMARY:Halesowen Leisure Centre\, Ramadan?
DESCRIPTION:Join Halesowen Leisure Centre (Women’s Awareness Association)\, Birmingham to learn about  why 1.6 billion Muslims take part in Ramadan\, on Friday 8th June 2018\, 2:30pm – 4:30pm & Saturday 9th June 2018\, 12pm – 3pm.
URL:https://www.sfitogether.org/event/halesowen-leisure-centre-ramadan/
LOCATION:Halesowen Leisure Centre\, 100 Richmond Street\, Halesowen\, B63 4BD\, United Kingdom
END:VEVENT
BEGIN:VEVENT
DTSTART;TZID=UTC:20180620T180000
DTEND;TZID=UTC:20180620T200000
DTSTAMP:20260425T224848
CREATED:20180524T150352Z
LAST-MODIFIED:20180614T115452Z
UID:1344-1529517600-1529524800@www.sfitogether.org
SUMMARY:Strengthening Bradford's Faith Institutions Launch
DESCRIPTION:                  To register\, click here. 
URL:https://www.sfitogether.org/event/strengthening-bradfords-faith-institutions-launch/
LOCATION:Khidmat Centre\, 36 Spencer Road\, Bradford\, BD7 2EU\, United Kingdom
END:VEVENT
END:VCALENDAR