BEGIN:VCALENDAR
VERSION:2.0
PRODID:-//Strengthening Faith Institutions (SFI) - ECPv6.0.6.2//NONSGML v1.0//EN
CALSCALE:GREGORIAN
METHOD:PUBLISH
X-WR-CALNAME:Strengthening Faith Institutions (SFI)
X-ORIGINAL-URL:https://www.sfitogether.org
X-WR-CALDESC:Events for Strengthening Faith Institutions (SFI)
REFRESH-INTERVAL;VALUE=DURATION:PT1H
X-Robots-Tag:noindex
X-PUBLISHED-TTL:PT1H
BEGIN:VTIMEZONE
TZID:UTC
BEGIN:STANDARD
TZOFFSETFROM:+0000
TZOFFSETTO:+0000
TZNAME:UTC
DTSTART:20190101T000000
END:STANDARD
END:VTIMEZONE
BEGIN:VEVENT
DTSTART;TZID=UTC:20190331T140000
DTEND;TZID=UTC:20190331T180000
DTSTAMP:20260423T083311
CREATED:20190318T114009Z
LAST-MODIFIED:20221201T102321Z
UID:2518-1554040800-1554055200@www.sfitogether.org
SUMMARY:Faith Supplementary School Teacher Training
DESCRIPTION:An introduction to teacher training for Madrassas\nThe Madrassa is one of the most important milestones of Islamic education. This teacher training course explores the basic principles of teaching and Islamic tradition and seeks to empower Muslim educators and deepen the appreciation of Madrassas. \nBy the end of the course\, participants will:\n• Understand the importance of policies and procedures around safeguarding within the Madrassa school context;\n• Be able to provide a safe\, supportive and positive environment for students;\n• Understand and provide the different Special Educational Needs (SEN) and implement the teaching methods;\n• Develop and strengthen the relationships between students\, teachers and parents; \nAt the end of the training\, participants will receive a completion certificate. SFI recommends that you attend the course annually to maintain your knowledge and professional development. \nThe course is delivered by Dawood Masood\, who has been serving at Al-Hira Cultural and Educational Centre\, Luton since 2011 as the Head of Educational and Youth Services and a teacher of Islamic Studies.
URL:https://www.sfitogether.org/event/faith-supplementary-school-teacher-training-5/
LOCATION:Masjid Abu Baqr\, Rotherham\, Russel Street\, Eastwood\, Rotherham\, Yorkshire\, S65 1RN\, United Kingdom
CATEGORIES:SFI Event
ATTACH;FMTTYPE=image/jpeg:https://www.sfitogether.org/wp-content/uploads/2018/12/board-chalk-board-knowledge-54597.jpg
END:VEVENT
BEGIN:VEVENT
DTSTART;TZID=UTC:20190504T093000
DTEND;TZID=UTC:20190504T170000
DTSTAMP:20260423T083311
CREATED:20220327T153907Z
LAST-MODIFIED:20221201T102313Z
UID:2560-1556962200-1556989200@www.sfitogether.org
SUMMARY:Emergency Pediatric First Aid at Work - Level 3
DESCRIPTION:The training consists of the knowledge of first aid to save lives and will cover choking\, unconsciousness\, bleeding\, asthma\, meningitis\, CPR\, stroke and heart attacks. The training is delivered by Denise Smith. \nClick here to register.
URL:https://www.sfitogether.org/event/emergency-pediatric-first-aid-at-work-level-3/
LOCATION:Central Mosque and Community Centre\, Selborne Street\, WS1 2JN
CATEGORIES:SFI Event
END:VEVENT
BEGIN:VEVENT
DTSTART;TZID=UTC:20221026T094500
DTEND;TZID=UTC:20221026T170000
DTSTAMP:20260423T083311
CREATED:20220427T124411Z
LAST-MODIFIED:20221021T171325Z
UID:2532-1666777500-1666803600@www.sfitogether.org
SUMMARY:Emergency Paediatric First Aid and Emergency First Aid at Work - Level 3
DESCRIPTION:The training consists of the knowledge of first aid to save lives and will cover choking\, unconsciousness\, bleeding\, asthma\, meningitis\, CPR\, stroke and heart attacks. \nThe course is accredited by First Aid Industry Body (FAIB) and the Federation of First Aid Training Organisations (FOFATO). \nFee: £50 or £20 for SFI members.
URL:https://www.sfitogether.org/event/emergency-paediatric-first-aid-and-emergency-first-aid-at-work-level-3/
LOCATION:Neeli Masjid\, 25-27 Hare Street\, Rochdale\, Rochdale\, OL11 1JL
CATEGORIES:SFI Event
ATTACH;FMTTYPE=image/jpeg:https://www.sfitogether.org/wp-content/uploads/2018/12/28056732_186895218581461_1209720421390728225_n-1.jpg
END:VEVENT
BEGIN:VEVENT
DTSTART;TZID=UTC:20221207T180000
DTEND;TZID=UTC:20230906T200000
DTSTAMP:20260423T083311
CREATED:20221201T101828Z
LAST-MODIFIED:20221201T115534Z
UID:5524-1670436000-1694030400@www.sfitogether.org
SUMMARY:Basic Safeguarding for Faith Institutions
DESCRIPTION:The aim of this course is to develop an awareness of Safeguarding and Child Protection concerns within your faith institution and how to protect children from suffering any harm. \nBy the end of the course\, participants will \n• Understand the four categories of child abuse\n• Recognise signs of abuse in a child\n• To learn what to do should you notice signs of abuse in a child \nUpon completion\, participants will receive a full set of safeguarding policy templates and a certificate of attendance. \n\nJoin us on the first Wednesday of every month\n6 PM – 8 PM
URL:https://www.sfitogether.org/event/basic-safeguarding-for-faith-institutions/
CATEGORIES:SFI Event
ATTACH;FMTTYPE=image/jpeg:https://www.sfitogether.org/wp-content/uploads/2022/12/1ee5bad0-5b50-01c8-3081-eff4fe01c4d0.jpeg
END:VEVENT
BEGIN:VEVENT
DTSTART;TZID=UTC:20230109T080000
DTEND;TZID=UTC:20230109T170000
DTSTAMP:20260423T083311
CREATED:20230109T134927Z
LAST-MODIFIED:20230109T135013Z
UID:5600-1673251200-1673283600@www.sfitogether.org
SUMMARY:Basic Security for your Community
DESCRIPTION:
URL:https://www.sfitogether.org/event/basic-security-for-your-community-2/
CATEGORIES:SFI Event
ATTACH;FMTTYPE=image/png:https://www.sfitogether.org/wp-content/uploads/2023/01/Safer-Centre.png
END:VEVENT
BEGIN:VEVENT
DTSTART;TZID=UTC:20230118T200000
DTEND;TZID=UTC:20230118T220000
DTSTAMP:20260423T083311
CREATED:20230109T160212Z
LAST-MODIFIED:20230109T160212Z
UID:5619-1674072000-1674079200@www.sfitogether.org
SUMMARY:Introduction into Lead Roles for Places of Worship
DESCRIPTION:This webinar aims at equipping volunteers and staff at faith centres with knowledge about the key duties as lead officers in the following roles: \n\nSafeguarding\nHealth and Safety\nFirst Aid\nFire Safety\n\nThe webinar takes place every third Wednesday of the month. Come join us at our next training session: \nJanuary 18\, 2023 \n8-10pm \n 
URL:https://www.sfitogether.org/event/introduction-into-lead-roles-for-places-of-worship/
CATEGORIES:SFI Event
ATTACH;FMTTYPE=image/jpeg:https://www.sfitogether.org/wp-content/uploads/2023/01/Lead-Roles.jpg
END:VEVENT
BEGIN:VEVENT
DTSTART;TZID=UTC:20230125T200000
DTEND;TZID=UTC:20230125T220000
DTSTAMP:20260423T083311
CREATED:20230109T145358Z
LAST-MODIFIED:20230109T155220Z
UID:5596-1674676800-1674684000@www.sfitogether.org
SUMMARY:Fire Safety and Fire Marshal Course
DESCRIPTION:The Fire Safety and Fire Marshal course equips its participants with crucial skills to contribute to the safety of everyone at their faith institution. The aim of this course is to develop an awareness of Fire Safety and the duties of a fire marshal. \nBy the end of the course\, participants will be able to:\n• Understand the health & safety duties of volunteers/employees/teachers;\n• Learn how to minimise risks;\n• Learn about potential fire risks and how to be a fire marshal.\n\nJoin us on the fourth Wednesday of every month\nNext session: January 25\, 2023\n8 PM – 10 PM
URL:https://www.sfitogether.org/event/fire-safety-and-fire-marshal-course/
CATEGORIES:SFI Event
ATTACH;FMTTYPE=image/jpeg:https://www.sfitogether.org/wp-content/uploads/2023/01/Fire-Safety-1.jpg
END:VEVENT
BEGIN:VEVENT
DTSTART;TZID=UTC:20230201T200000
DTEND;TZID=UTC:20230201T220000
DTSTAMP:20260423T083311
CREATED:20230109T155845Z
LAST-MODIFIED:20230109T155845Z
UID:5623-1675281600-1675288800@www.sfitogether.org
SUMMARY:Basic Safeguarding Training for Places of Worship
DESCRIPTION:These online trainings will enable you to play a role in safeguarding children and young people at a faith centre. During the sessions\, you will learn what your role is in keeping children and young people safe. \nThe webinar takes place every first Wednesday of the month. Come join us at our next training session: \nFebruary 1\, 2023 \n8-10pm
URL:https://www.sfitogether.org/event/basic-safeguarding-training-for-places-of-worship/
CATEGORIES:SFI Event
ATTACH;FMTTYPE=image/jpeg:https://www.sfitogether.org/wp-content/uploads/2023/01/Safeguarding.jpg
END:VEVENT
END:VCALENDAR