BEGIN:VCALENDAR
VERSION:2.0
PRODID:-//Strengthening Faith Institutions (SFI) - ECPv6.0.6.2//NONSGML v1.0//EN
CALSCALE:GREGORIAN
METHOD:PUBLISH
X-WR-CALNAME:Strengthening Faith Institutions (SFI)
X-ORIGINAL-URL:https://www.sfitogether.org
X-WR-CALDESC:Events for Strengthening Faith Institutions (SFI)
REFRESH-INTERVAL;VALUE=DURATION:PT1H
X-Robots-Tag:noindex
X-PUBLISHED-TTL:PT1H
BEGIN:VTIMEZONE
TZID:UTC
BEGIN:STANDARD
TZOFFSETFROM:+0000
TZOFFSETTO:+0000
TZNAME:UTC
DTSTART:20220101T000000
END:STANDARD
END:VTIMEZONE
BEGIN:VEVENT
DTSTART;TZID=UTC:20221214T124500
DTEND;TZID=UTC:20221214T140000
DTSTAMP:20260425T031048
CREATED:20221201T154223Z
LAST-MODIFIED:20230109T134629Z
UID:5542-1671021900-1671026400@www.sfitogether.org
SUMMARY:Basic Security for your Community
DESCRIPTION:Is your organisation ready for the proposed Protect Duty? \nThe Government is currently proposing Protect Duty legislation that will make it a duty for places of worship and public buildings to have security measures in place in order to protect their communities from terrorist and hate-crime attacks. \nWhilst risks for some communities may remain low\, public bodies are advising places of worship to be vigilant and to take-on some key security measures ahead of this proposed legislation. \nThis webinar hosted Faiths Forum for London (FFL)\, Community Security Trust (CST) & MOPAC (Mayor of London’s Office for Policing & Crime) is an ideal first step towards being prepared. \nDesigned to raise your awareness of security. It covers a range of issues from personal safety and emergency procedures to CCTV and IT security. This is a detailed introduction to security for places of worship and vulnerable communities. \nRegister here.
URL:https://www.sfitogether.org/event/basic-security-for-your-community/
CATEGORIES:External Event
ATTACH;FMTTYPE=image/png:https://www.sfitogether.org/wp-content/uploads/2022/12/CST.png
END:VEVENT
END:VCALENDAR