BEGIN:VCALENDAR
VERSION:2.0
PRODID:-//Strengthening Faith Institutions (SFI) - ECPv6.0.6.2//NONSGML v1.0//EN
CALSCALE:GREGORIAN
METHOD:PUBLISH
X-ORIGINAL-URL:https://www.sfitogether.org
X-WR-CALDESC:Events for Strengthening Faith Institutions (SFI)
REFRESH-INTERVAL;VALUE=DURATION:PT1H
X-Robots-Tag:noindex
X-PUBLISHED-TTL:PT1H
BEGIN:VTIMEZONE
TZID:UTC
BEGIN:STANDARD
TZOFFSETFROM:+0000
TZOFFSETTO:+0000
TZNAME:UTC
DTSTART:20190101T000000
END:STANDARD
END:VTIMEZONE
BEGIN:VEVENT
DTSTART;TZID=UTC:20190220T090000
DTEND;TZID=UTC:20190220T163000
DTSTAMP:20260425T112857
CREATED:20190201T155319Z
LAST-MODIFIED:20221201T104016Z
UID:2311-1550653200-1550680200@www.sfitogether.org
SUMMARY:Emergency First Aid at Work
DESCRIPTION:
URL:https://www.sfitogether.org/event/emergency-first-aid-at-work/
LOCATION:Alfalah Community Support Centre\,\, 89 Tindal Street\, BIRMINGHAM\, B12 9QU
CATEGORIES:SFI Event
END:VEVENT
BEGIN:VEVENT
DTSTART;TZID=UTC:20190220T090000
DTEND;TZID=UTC:20190220T163000
DTSTAMP:20260425T112857
CREATED:20190214T143646Z
LAST-MODIFIED:20221201T104010Z
UID:2416-1550653200-1550680200@www.sfitogether.org
SUMMARY:Emergency First Aid at Work
DESCRIPTION:The training consists of the knowledge of first aid to save lives and will cover choking\, unconsciousness\, bleeding\, asthma\, meningitis\, CPR\, stroke and heart attacks. The training is delivered by Waheed Hussain\, who has over seventeen years experience within the Ambulance Service and is currently a Paramedic. He is qualified in Level 3 Award in Education and Training. \nThe course is accredited by First Aid Industry Body (FAIB) and the Federation of First Aid Training Organisations (FOFATO). \nThe training costs £20\, click here to register.
URL:https://www.sfitogether.org/event/emergency-first-aid-at-work-3/
LOCATION:Zia ul Ummah Centre\, 13 Victoria Street\, Birmingham\, B9 5AA
CATEGORIES:SFI Event
END:VEVENT
END:VCALENDAR