BEGIN:VCALENDAR
VERSION:2.0
PRODID:-//Strengthening Faith Institutions (SFI) - ECPv6.0.6.2//NONSGML v1.0//EN
CALSCALE:GREGORIAN
METHOD:PUBLISH
X-WR-CALNAME:Strengthening Faith Institutions (SFI)
X-ORIGINAL-URL:https://www.sfitogether.org
X-WR-CALDESC:Events for Strengthening Faith Institutions (SFI)
REFRESH-INTERVAL;VALUE=DURATION:PT1H
X-Robots-Tag:noindex
X-PUBLISHED-TTL:PT1H
BEGIN:VTIMEZONE
TZID:UTC
BEGIN:STANDARD
TZOFFSETFROM:+0000
TZOFFSETTO:+0000
TZNAME:UTC
DTSTART:20190101T000000
END:STANDARD
END:VTIMEZONE
BEGIN:VEVENT
DTSTART;TZID=UTC:20190217T140000
DTEND;TZID=UTC:20190217T160000
DTSTAMP:20260425T112801
CREATED:20190213T122553Z
LAST-MODIFIED:20221201T104050Z
UID:2354-1550412000-1550419200@www.sfitogether.org
SUMMARY:Health and Safety Awareness Training
DESCRIPTION:
URL:https://www.sfitogether.org/event/health-and-safety-awareness-training-4/
LOCATION:Makki Masjid & madrasah\, 75\, Stratford Road\, Birmingham\, B21 9DU
CATEGORIES:SFI Event
END:VEVENT
BEGIN:VEVENT
DTSTART;TZID=UTC:20190217T150000
DTEND;TZID=UTC:20190217T163000
DTSTAMP:20260425T112801
CREATED:20190213T124137Z
LAST-MODIFIED:20221201T104044Z
UID:2368-1550415600-1550421000@www.sfitogether.org
SUMMARY:Show The Love\, The Climate Coalition
DESCRIPTION:As part of the ‘Show The Love’ campaign by The Climate Coalition\, Footsteps has organised an event in collaboration with Central England Quakers and the Bahu Trust. An afternoon tea event where speakers will share their thoughts on what they care about and talk about climate change.\n\nTo book and for more information: footstepsbcf.org.uk/love
URL:https://www.sfitogether.org/event/show-the-love-the-climate-coalition/
LOCATION:Birmingham Central Mosque\, 180 Belgrave Middleway\, Birmingham\, B12 0XS
CATEGORIES:External Event
END:VEVENT
END:VCALENDAR