BEGIN:VCALENDAR
VERSION:2.0
PRODID:-//Strengthening Faith Institutions (SFI) - ECPv6.0.6.2//NONSGML v1.0//EN
CALSCALE:GREGORIAN
METHOD:PUBLISH
X-WR-CALNAME:Strengthening Faith Institutions (SFI)
X-ORIGINAL-URL:https://www.sfitogether.org
X-WR-CALDESC:Events for Strengthening Faith Institutions (SFI)
REFRESH-INTERVAL;VALUE=DURATION:PT1H
X-Robots-Tag:noindex
X-PUBLISHED-TTL:PT1H
BEGIN:VTIMEZONE
TZID:UTC
BEGIN:STANDARD
TZOFFSETFROM:+0000
TZOFFSETTO:+0000
TZNAME:UTC
DTSTART:20190101T000000
END:STANDARD
END:VTIMEZONE
BEGIN:VEVENT
DTSTART;TZID=UTC:20190210T143000
DTEND;TZID=UTC:20190210T173000
DTSTAMP:20260425T112915
CREATED:20190206T164809Z
LAST-MODIFIED:20221201T104153Z
UID:2338-1549809000-1549819800@www.sfitogether.org
SUMMARY:Health & safety Awareness Training
DESCRIPTION:The aim of the course is to develop awareness of Health and Safety concerns for your faith institution. The session will enable attendants to build a setting compliant with health and safety\n\n\n\n\n\n\n\n\nlaws. \nBy the end of the course\, participants will be able to: \n• Understand the five different potential \nhazards and related risks; \n• Learn how to minimise risks; \n• Learn about potential fire risks \nUpon completion\, participants will receive a full set of notes and a certificate of completion. \n\nClick here to register.
URL:https://www.sfitogether.org/event/health-safety-awareness-training/
LOCATION:Isleworth Deen Centre\, 114 Twickenham Road\, London\, TW7 7DJ
CATEGORIES:SFI Event
END:VEVENT
BEGIN:VEVENT
DTSTART;TZID=UTC:20190210T160000
DTEND;TZID=UTC:20190210T200000
DTSTAMP:20260425T112915
CREATED:20190123T115201Z
LAST-MODIFIED:20221201T104146Z
UID:2302-1549814400-1549828800@www.sfitogether.org
SUMMARY:Health and Safety Awareness Training
DESCRIPTION:
URL:https://www.sfitogether.org/event/health-and-safety-awareness-training-2/
LOCATION:Al Fatiha Community School\, 28 George Street \, Balsall Heath\, Birmingham\, B12 9RG
CATEGORIES:SFI Event
END:VEVENT
END:VCALENDAR