BEGIN:VCALENDAR
VERSION:2.0
PRODID:-//Strengthening Faith Institutions (SFI) - ECPv6.0.6.2//NONSGML v1.0//EN
CALSCALE:GREGORIAN
METHOD:PUBLISH
X-WR-CALNAME:Strengthening Faith Institutions (SFI)
X-ORIGINAL-URL:https://www.sfitogether.org
X-WR-CALDESC:Events for Strengthening Faith Institutions (SFI)
REFRESH-INTERVAL;VALUE=DURATION:PT1H
X-Robots-Tag:noindex
X-PUBLISHED-TTL:PT1H
BEGIN:VTIMEZONE
TZID:UTC
BEGIN:STANDARD
TZOFFSETFROM:+0000
TZOFFSETTO:+0000
TZNAME:UTC
DTSTART:20190101T000000
END:STANDARD
END:VTIMEZONE
BEGIN:VEVENT
DTSTART;TZID=UTC:20190208T170000
DTEND;TZID=UTC:20190208T200000
DTSTAMP:20260425T112800
CREATED:20190206T162728Z
LAST-MODIFIED:20221201T104206Z
UID:2328-1549645200-1549656000@www.sfitogether.org
SUMMARY:Health and Safety Awareness Training
DESCRIPTION:The aim of the course is to develop awareness of Health and Safety concerns for your faith institution. The session will enable attendants to build a setting compliant with health and safety\nlaws. \nBy the end of the course\, participants will be able to:\n• Understand the five different potential\nhazards and related risks;\n• Learn how to minimise risks;\n• Learn about potential fire risks \nUpon completion\, participants will receive a full set of notes and a certificate of completion. \nClick here to register.
URL:https://www.sfitogether.org/event/health-and-safety-awareness-training-3/
LOCATION:Masjid Hamza مسجد\, 90 Church Road\, Birmingham\, B13 9AE
CATEGORIES:SFI Event
END:VEVENT
END:VCALENDAR