BEGIN:VCALENDAR
VERSION:2.0
PRODID:-//Strengthening Faith Institutions (SFI) - ECPv6.0.6.2//NONSGML v1.0//EN
CALSCALE:GREGORIAN
METHOD:PUBLISH
X-WR-CALNAME:Strengthening Faith Institutions (SFI)
X-ORIGINAL-URL:https://www.sfitogether.org
X-WR-CALDESC:Events for Strengthening Faith Institutions (SFI)
REFRESH-INTERVAL;VALUE=DURATION:PT1H
X-Robots-Tag:noindex
X-PUBLISHED-TTL:PT1H
BEGIN:VTIMEZONE
TZID:UTC
BEGIN:STANDARD
TZOFFSETFROM:+0000
TZOFFSETTO:+0000
TZNAME:UTC
DTSTART:20180101T000000
END:STANDARD
END:VTIMEZONE
BEGIN:VEVENT
DTSTART;TZID=UTC:20181201T093000
DTEND;TZID=UTC:20181201T143000
DTSTAMP:20260425T162121
CREATED:20181106T114251Z
LAST-MODIFIED:20221201T104453Z
UID:1995-1543656600-1543674600@www.sfitogether.org
SUMMARY:Supplementary Schools Conference 2018
DESCRIPTION:The event will bring together community and faith leaders to explore some of the professional challenges that supplementary school leaders face\, identify what is helping and what is hindering their work\, lessons learnt on individual journeys of improvement\, and what more is needed to be done to remove the barriers to delivering the highest quality education\, community cohesion and keeping children safe. \nTraining/Workshop avaiable for supplementary school staff\, volunteer and committee members will include: \n\n\nChild Protection \n\n\nGDPR and faith-based organisations \n\n\nDealing with hate-related crimes \n\n\nInternet safety \n\n\nChild sexual exploitation \n\n\nManaging supplementary school effectively \n\n\nDealing with all forms of radicalisation \n\n\nClick here to register.
URL:https://www.sfitogether.org/event/supplementary-schools-conference-2018/
LOCATION:University of Bradford\, Richmond Road\, Bradford\, BD7 1DP
CATEGORIES:External Event
ATTACH;FMTTYPE=image/jpeg:https://www.sfitogether.org/wp-content/uploads/2018/11/https_2F2Fcdn.evbuc_.com2Fimages2F517580482F1598166983062F12Foriginal.jpg
END:VEVENT
END:VCALENDAR