BEGIN:VCALENDAR
VERSION:2.0
PRODID:-//Strengthening Faith Institutions (SFI) - ECPv6.0.6.2//NONSGML v1.0//EN
CALSCALE:GREGORIAN
METHOD:PUBLISH
X-WR-CALNAME:Strengthening Faith Institutions (SFI)
X-ORIGINAL-URL:https://www.sfitogether.org
X-WR-CALDESC:Events for Strengthening Faith Institutions (SFI)
REFRESH-INTERVAL;VALUE=DURATION:PT1H
X-Robots-Tag:noindex
X-PUBLISHED-TTL:PT1H
BEGIN:VTIMEZONE
TZID:UTC
BEGIN:STANDARD
TZOFFSETFROM:+0000
TZOFFSETTO:+0000
TZNAME:UTC
DTSTART:20180101T000000
END:STANDARD
END:VTIMEZONE
BEGIN:VEVENT
DTSTART;TZID=UTC:20181007T140000
DTEND;TZID=UTC:20181007T180000
DTSTAMP:20260425T185053
CREATED:20181015T111841Z
LAST-MODIFIED:20181015T111841Z
UID:1833-1538920800-1538935200@www.sfitogether.org
SUMMARY:Health & Safety Awareness
DESCRIPTION:The aim of the Health and Safety Awareness Training is to develop the awareness of health and safety concerns within your faith institution and to build a setting compliant with the legal policies and procedures. \nBy the end of the course\, participants will be able to: \n\nUnderstand the five different potential hazards and related risks\nLearn how to minimise risks\nLearn about potential fire risks\n\nFor more information and to RSVP\, please email: mlatifms@yahoo.co.uk 
URL:https://www.sfitogether.org/event/health-safety-awareness/
LOCATION:Qadria Trust\, 26 Alfred Street\, Birmingham\, B12 8JL
END:VEVENT
END:VCALENDAR