BEGIN:VCALENDAR
VERSION:2.0
PRODID:-//Strengthening Faith Institutions (SFI) - ECPv6.0.6.2//NONSGML v1.0//EN
CALSCALE:GREGORIAN
METHOD:PUBLISH
X-ORIGINAL-URL:https://www.sfitogether.org
X-WR-CALDESC:Events for Strengthening Faith Institutions (SFI)
REFRESH-INTERVAL;VALUE=DURATION:PT1H
X-Robots-Tag:noindex
X-PUBLISHED-TTL:PT1H
BEGIN:VTIMEZONE
TZID:UTC
BEGIN:STANDARD
TZOFFSETFROM:+0000
TZOFFSETTO:+0000
TZNAME:UTC
DTSTART:20180101T000000
END:STANDARD
END:VTIMEZONE
BEGIN:VEVENT
DTSTART;TZID=UTC:20181006T150000
DTEND;TZID=UTC:20181006T190000
DTSTAMP:20260425T185044
CREATED:20181015T110949Z
LAST-MODIFIED:20181015T110949Z
UID:1830-1538838000-1538852400@www.sfitogether.org
SUMMARY:Safeguarding Children - Awareness training
DESCRIPTION:Muhammad Abdul Latif will be delivering Safeguarding Children Awareness Training at Minhajul Qur’aan Masjid\, Walsall.\n\nThe topics that will be covered are:\n\n\nSafeguarding and Child Protection\nFour Rs of safeguarding – Recognise\, Respond\, Report\, Record\nMajor types of abuse and major signs of each type of abuse\nDuties of the Designated Safeguarding Officer and trustees\n/Management Committee\n\nFurther learning\nQ & A\n\nClick here\, to read ‘What to do if you’re worried a child is being abused’ prior to attending the training session. \nTo RSVP\, please email mlatifms@yahoo.co.uk. 
URL:https://www.sfitogether.org/event/safeguarding-children-awareness-training-2/
LOCATION:Minhajul Qur’aan Masjid\, 49 Woodwards Road\, Walsall\, WS2 9RN
END:VEVENT
END:VCALENDAR