BEGIN:VCALENDAR
VERSION:2.0
PRODID:-//Strengthening Faith Institutions (SFI) - ECPv6.0.6.2//NONSGML v1.0//EN
CALSCALE:GREGORIAN
METHOD:PUBLISH
X-ORIGINAL-URL:https://www.sfitogether.org
X-WR-CALDESC:Events for Strengthening Faith Institutions (SFI)
REFRESH-INTERVAL;VALUE=DURATION:PT1H
X-Robots-Tag:noindex
X-PUBLISHED-TTL:PT1H
BEGIN:VTIMEZONE
TZID:UTC
BEGIN:STANDARD
TZOFFSETFROM:+0000
TZOFFSETTO:+0000
TZNAME:UTC
DTSTART:20180101T000000
END:STANDARD
END:VTIMEZONE
BEGIN:VEVENT
DTSTART;TZID=UTC:20180925T174500
DTEND;TZID=UTC:20180925T200000
DTSTAMP:20260425T212832
CREATED:20180809T105356Z
LAST-MODIFIED:20180809T105451Z
UID:1681-1537897500-1537905600@www.sfitogether.org
SUMMARY:Walsall Faith Groups Information Evening with SFI and Near Neighbours
DESCRIPTION:Strengthening Faith Institutions (SFI) in partnership with Near Neighbours Black Country is pleased to invite you to the information evening for faith organisations in Walsall and Black Country. \nClick here to register.
URL:https://www.sfitogether.org/event/walsall-faith-groups-information-evening-with-sfi-and-near-neighbours/
LOCATION:The Vines\, 33 Lower Hall Lane\, Walsall\, WS1 1RR
END:VEVENT
BEGIN:VEVENT
DTSTART;TZID=UTC:20180925T180000
DTEND;TZID=UTC:20180925T203000
DTSTAMP:20260425T212832
CREATED:20180814T143331Z
LAST-MODIFIED:20180814T144419Z
UID:1721-1537898400-1537907400@www.sfitogether.org
SUMMARY:Information evening (grants\, safeguarding\, community cohesion\, risk management etc):
DESCRIPTION:Strengthening Faith Institutions (SFI) is pleased to hold an evening\, proving information on various topics such as grants\, safeguarding\, and community cohesion including a dinner at 6 pm. \nTo find out more\, including the venue and to book your place please email Shakil@sfitogether.org \n 
URL:https://www.sfitogether.org/event/information-evening-grants-safeguarding-community-cohesion-risk-management-etc/
LOCATION:walsall
END:VEVENT
END:VCALENDAR