BEGIN:VCALENDAR
VERSION:2.0
PRODID:-//Strengthening Faith Institutions (SFI) - ECPv6.0.6.2//NONSGML v1.0//EN
CALSCALE:GREGORIAN
METHOD:PUBLISH
X-WR-CALNAME:Strengthening Faith Institutions (SFI)
X-ORIGINAL-URL:https://www.sfitogether.org
X-WR-CALDESC:Events for Strengthening Faith Institutions (SFI)
REFRESH-INTERVAL;VALUE=DURATION:PT1H
X-Robots-Tag:noindex
X-PUBLISHED-TTL:PT1H
BEGIN:VTIMEZONE
TZID:UTC
BEGIN:STANDARD
TZOFFSETFROM:+0000
TZOFFSETTO:+0000
TZNAME:UTC
DTSTART:20180101T000000
END:STANDARD
END:VTIMEZONE
BEGIN:VEVENT
DTSTART;TZID=UTC:20180922T140000
DTEND;TZID=UTC:20180922T180000
DTSTAMP:20260425T201746
CREATED:20180918T120423Z
LAST-MODIFIED:20180918T120511Z
UID:1784-1537624800-1537639200@www.sfitogether.org
SUMMARY:Safeguarding Children Awareness Training
DESCRIPTION:Topics covered:\n\n\n\nImportance of safeguarding – in British law and in the Sacred Texts\nSafeguarding and Child Protection\nFour Rs of safeguarding – Recognise\, Respond\, Report\, Record\nMajor types of abuse and major signs of each type of abuse\nDuties of the Designated Safeguarding Officer and trustees/Management Committee\nFurther learning\n\n\nTo RSVP or for more information\, please email Shakil Ahmed: Shakil@sfitogether.org or call: 07505900490
URL:https://www.sfitogether.org/event/safeguarding-children-awareness-training/
LOCATION:Grimsby Islamic Cultural Centre\, 79a Weelsby Road\, Grimsby\, DN32 0PY
END:VEVENT
END:VCALENDAR