BEGIN:VCALENDAR
VERSION:2.0
PRODID:-//Strengthening Faith Institutions (SFI) - ECPv6.0.6.2//NONSGML v1.0//EN
CALSCALE:GREGORIAN
METHOD:PUBLISH
X-WR-CALNAME:Strengthening Faith Institutions (SFI)
X-ORIGINAL-URL:https://www.sfitogether.org
X-WR-CALDESC:Events for Strengthening Faith Institutions (SFI)
REFRESH-INTERVAL;VALUE=DURATION:PT1H
X-Robots-Tag:noindex
X-PUBLISHED-TTL:PT1H
BEGIN:VTIMEZONE
TZID:UTC
BEGIN:STANDARD
TZOFFSETFROM:+0000
TZOFFSETTO:+0000
TZNAME:UTC
DTSTART:20180101T000000
END:STANDARD
END:VTIMEZONE
BEGIN:VEVENT
DTSTART;TZID=UTC:20180820T040000
DTEND;TZID=UTC:20180820T193000
DTSTAMP:20260425T212740
CREATED:20180814T140248Z
LAST-MODIFIED:20180814T145644Z
UID:1711-1534737600-1534793400@www.sfitogether.org
SUMMARY:Safeguarding Children - Awareness Course (Level 1)
DESCRIPTION:Strengthening Faith Institutions (SFI) is pleased to hold a safeguarding children awareness course (level 1). This Introduction to Safeguarding Children course is a positive first step towards increasing and improving your knowledge and will provide you with a thorough overview of how to recognise the warning signs of abuse\, what to do with any concerns that you may have and how to feel confident in protecting children from harm.  \nTo find out more including venue\, and to book your place please email: Shakil@sfitogether.org \n 
URL:https://www.sfitogether.org/event/safeguarding-children-awareness-course-level-1/
LOCATION:walsall
END:VEVENT
END:VCALENDAR