BEGIN:VCALENDAR
VERSION:2.0
PRODID:-//Strengthening Faith Institutions (SFI) - ECPv6.0.6.2//NONSGML v1.0//EN
CALSCALE:GREGORIAN
METHOD:PUBLISH
X-ORIGINAL-URL:https://www.sfitogether.org
X-WR-CALDESC:Events for Strengthening Faith Institutions (SFI)
REFRESH-INTERVAL;VALUE=DURATION:PT1H
X-Robots-Tag:noindex
X-PUBLISHED-TTL:PT1H
BEGIN:VTIMEZONE
TZID:UTC
BEGIN:STANDARD
TZOFFSETFROM:+0000
TZOFFSETTO:+0000
TZNAME:UTC
DTSTART:20180101T000000
END:STANDARD
END:VTIMEZONE
BEGIN:VEVENT
DTSTART;TZID=UTC:20180819T143000
DTEND;TZID=UTC:20180819T183000
DTSTAMP:20260425T212746
CREATED:20180821T133427Z
LAST-MODIFIED:20180821T133427Z
UID:1744-1534689000-1534703400@www.sfitogether.org
SUMMARY:Madrasah Designated Safeguarding Lead (MDSL) Training
DESCRIPTION:The MDSL training session is the second in the SFI comprehensive Safeguarding training programme which ensures that each madrasah completing this programme is given the same preparedness as mainstream schools would be for Ofsted inspections. In this session\, the persons nominated to fulfil the role of the Designated Safeguarding Lead at the Madrasah are invited to develop their knowledge and skill set to carry out their duties. \nTo RSVP\, please email Muhammad Latif: mlatifms@yahoo.co.uk
URL:https://www.sfitogether.org/event/madrasah-designated-safeguarding-lead-mdsl-training-2/
LOCATION:Jamiah Abdullah bin Masood Masjid\, 78\, Evelyn road\, Spark Hill\, Birmingham\, B11 3JJ
END:VEVENT
END:VCALENDAR