BEGIN:VCALENDAR
VERSION:2.0
PRODID:-//Strengthening Faith Institutions (SFI) - ECPv6.0.6.2//NONSGML v1.0//EN
CALSCALE:GREGORIAN
METHOD:PUBLISH
X-WR-CALNAME:Strengthening Faith Institutions (SFI)
X-ORIGINAL-URL:https://www.sfitogether.org
X-WR-CALDESC:Events for Strengthening Faith Institutions (SFI)
REFRESH-INTERVAL;VALUE=DURATION:PT1H
X-Robots-Tag:noindex
X-PUBLISHED-TTL:PT1H
BEGIN:VTIMEZONE
TZID:UTC
BEGIN:STANDARD
TZOFFSETFROM:+0000
TZOFFSETTO:+0000
TZNAME:UTC
DTSTART:20180101T000000
END:STANDARD
END:VTIMEZONE
BEGIN:VEVENT
DTSTART;TZID=UTC:20180716T130000
DTEND;TZID=UTC:20180716T163000
DTSTAMP:20260425T224852
CREATED:20180709T135145Z
LAST-MODIFIED:20180709T135145Z
UID:1454-1531746000-1531758600@www.sfitogether.org
SUMMARY:Free training module from Team London: Trustee recruitment and diversity
DESCRIPTION:The free training module is organised by Team London in collaboration with Getting on Board\, a company which has expertise on ensuring trustee recruitment is diverse. The aim of the training is to equip Faith Institutions with the neccessary skills\, resources and practical templates needed to recruit a board of trustees who are diverse in all aspects. \nThe event is open to CEO’s\, Trustees and all staff involved in recruiting trustees.\n\n*Applications close 11th July*
URL:https://www.sfitogether.org/event/free-training-module-from-team-london-trustee-recruitment-and-diversity/
LOCATION:City Hall\, London\, The Queen's Walk\,\, London\, SE1 2AA
END:VEVENT
END:VCALENDAR