BEGIN:VCALENDAR
VERSION:2.0
PRODID:-//Strengthening Faith Institutions (SFI) - ECPv6.0.6.2//NONSGML v1.0//EN
CALSCALE:GREGORIAN
METHOD:PUBLISH
X-WR-CALNAME:Strengthening Faith Institutions (SFI)
X-ORIGINAL-URL:https://www.sfitogether.org
X-WR-CALDESC:Events for Strengthening Faith Institutions (SFI)
REFRESH-INTERVAL;VALUE=DURATION:PT1H
X-Robots-Tag:noindex
X-PUBLISHED-TTL:PT1H
BEGIN:VTIMEZONE
TZID:UTC
BEGIN:STANDARD
TZOFFSETFROM:+0000
TZOFFSETTO:+0000
TZNAME:UTC
DTSTART:20180101T000000
END:STANDARD
END:VTIMEZONE
BEGIN:VEVENT
DTSTART;TZID=UTC:20180620T180000
DTEND;TZID=UTC:20180620T200000
DTSTAMP:20260426T012640
CREATED:20180524T150352Z
LAST-MODIFIED:20180614T115452Z
UID:1344-1529517600-1529524800@www.sfitogether.org
SUMMARY:Strengthening Bradford's Faith Institutions Launch
DESCRIPTION:                  To register\, click here. 
URL:https://www.sfitogether.org/event/strengthening-bradfords-faith-institutions-launch/
LOCATION:Khidmat Centre\, 36 Spencer Road\, Bradford\, BD7 2EU\, United Kingdom
END:VEVENT
END:VCALENDAR