BEGIN:VCALENDAR
VERSION:2.0
PRODID:-//Strengthening Faith Institutions (SFI) - ECPv6.0.6.2//NONSGML v1.0//EN
CALSCALE:GREGORIAN
METHOD:PUBLISH
X-ORIGINAL-URL:https://www.sfitogether.org
X-WR-CALDESC:Events for Strengthening Faith Institutions (SFI)
REFRESH-INTERVAL;VALUE=DURATION:PT1H
X-Robots-Tag:noindex
X-PUBLISHED-TTL:PT1H
BEGIN:VTIMEZONE
TZID:UTC
BEGIN:STANDARD
TZOFFSETFROM:+0000
TZOFFSETTO:+0000
TZNAME:UTC
DTSTART:20180101T000000
END:STANDARD
END:VTIMEZONE
BEGIN:VEVENT
DTSTART;TZID=UTC:20180606T195000
DTEND;TZID=UTC:20180606T213000
DTSTAMP:20260426T000921
CREATED:20180523T102613Z
LAST-MODIFIED:20180523T102613Z
UID:1316-1528314600-1528320600@www.sfitogether.org
SUMMARY:Black Country Innovate\, Big Iftar
DESCRIPTION:
URL:https://www.sfitogether.org/event/black-country-innovate-big-iftar/
LOCATION:The County Hotel\, 45 Birmingham Road\, Walsall\, WS1 2NG\, United Kingdom
END:VEVENT
END:VCALENDAR