BEGIN:VCALENDAR
VERSION:2.0
PRODID:-//Strengthening Faith Institutions (SFI) - ECPv6.0.6.2//NONSGML v1.0//EN
CALSCALE:GREGORIAN
METHOD:PUBLISH
X-ORIGINAL-URL:https://www.sfitogether.org
X-WR-CALDESC:Events for Strengthening Faith Institutions (SFI)
REFRESH-INTERVAL;VALUE=DURATION:PT1H
X-Robots-Tag:noindex
X-PUBLISHED-TTL:PT1H
BEGIN:VTIMEZONE
TZID:UTC
BEGIN:STANDARD
TZOFFSETFROM:+0000
TZOFFSETTO:+0000
TZNAME:UTC
DTSTART:20180101T000000
END:STANDARD
END:VTIMEZONE
BEGIN:VEVENT
DTSTART;TZID=UTC:20180517T110000
DTEND;TZID=UTC:20180517T130000
DTSTAMP:20260426T024616
CREATED:20180511T152552Z
LAST-MODIFIED:20180514T155229Z
UID:1254-1526554800-1526562000@www.sfitogether.org
SUMMARY:First Aid Training @ Barking
DESCRIPTION:
URL:https://www.sfitogether.org/event/first-aid-training-barking/
END:VEVENT
END:VCALENDAR